BEGIN:VCALENDAR
VERSION:2.0
PRODID:-//ChamberMaster//Event Calendar 2.0//EN
METHOD:PUBLISH
X-PUBLISHED-TTL:P3D
REFRESH-INTERVAL:P3D
CALSCALE:GREGORIAN
BEGIN:VEVENT
DTSTART:20170318T120000Z
DTEND:20170318T170000Z
X-MICROSOFT-CDO-ALLDAYEVENT:FALSE
SUMMARY:5th Annual BAMA community craft & rummage sale
DESCRIPTION:*5th Annual BAMA community craft & rummage sale*Saturday\, March 18\, 2017 from 8:00 am until 1:00 pm *Belton Depot grounds*Costume jewelry\, designer clothing\, baby goods\, tools\, gently-used furniture\, etc.*Deadline to reserve a table is March 15*Tables are available for rent for only $10 per 10x10 space*For renters information go to Wendell's Country Store\, the News Chronicle Office\, the Belton Depot in Belton\, or McCall's Produce in Honea Path*Booth fees will benefit the Belton Area Museum Association's education out-reach programs*Vendors keep all profits*For additonal information call Alison Darby at 864.958.5264 or Abigail Burden\, BAMA Executive Director at 864.338.7400
X-ALT-DESC;FMTTYPE=text/html:<p>*5th Annual BAMA community craft &amp\; rummage sale</p><p>*Saturday\, March 18\, 2017 from 8:00 am until 1:00 pm </p><p>*Belton Depot grounds</p><p>*Costume jewelry\, designer clothing\, baby goods\, tools\, gently-used furniture\, etc.</p><p>*Deadline to reserve a table is March 15</p><p>*Tables are available for rent for only $10 per 10x10 space</p><p>*For renters information&nbsp\;go to Wendell's Country Store\, the News Chronicle Office\,&nbsp\;the Belton Depot in Belton\, or McCall's Produce in Honea Path</p><p>*Booth fees will benefit the Belton Area Museum Association's education out-reach programs</p><p>*Vendors keep all profits</p><p>*For additonal information call Alison Darby at 864.958.5264 or Abigail Burden\, BAMA Executive Director at 864.338.7400</p>
LOCATION:
UID:e.3091.3721
SEQUENCE:3
DTSTAMP:20260421T044207Z
URL:https://www.andersonscchamber.com/events/details/5th-annual-bama-community-craft-rummage-sale-3721
END:VEVENT

END:VCALENDAR
