BEGIN:VCALENDAR
VERSION:2.0
PRODID:-//ChamberMaster//Event Calendar 2.0//EN
METHOD:PUBLISH
X-PUBLISHED-TTL:P3D
REFRESH-INTERVAL:P3D
CALSCALE:GREGORIAN
BEGIN:VEVENT
DTSTART:20220316T133000Z
DTEND:20220316T150000Z
X-MICROSOFT-CDO-ALLDAYEVENT:FALSE
SUMMARY:AIM Extreme Makeover Ribbon Cutting
DESCRIPTION:
X-ALT-DESC;FMTTYPE=text/html:
LOCATION:1206 South Murray Avenue\, Anderson\, SC 29624
UID:e.3091.11399
SEQUENCE:3
DTSTAMP:20260424T035207Z
URL:https://www.andersonscchamber.com/events/details/aim-extreme-makeover-ribbon-cutting-11399
END:VEVENT

END:VCALENDAR
