BEGIN:VCALENDAR
VERSION:2.0
PRODID:-//ChamberMaster//Event Calendar 2.0//EN
METHOD:PUBLISH
X-PUBLISHED-TTL:P3D
REFRESH-INTERVAL:P3D
CALSCALE:GREGORIAN
BEGIN:VEVENT
DTSTART:20230521T020000Z
DTEND:20230521T160000Z
X-MICROSOFT-CDO-ALLDAYEVENT:FALSE
SUMMARY:Church Announcement
DESCRIPTION:Tabernacle of Faith of Anderson\, Inc. will hold their annual Conference on Saturday\, May 20\, 2023 at Zion Tabernacle of Faith Church\, 329 Jordon Street\, Greenwood\, S.C. 29646 starting at 10:00 am. Guest speakers are Minister Rod Williford of Anderson\, Apostle Taylor Johnson of Greenwood\, and Apostle Alan Koerber of Anderson\, SC. On Sunday\, May 21\, 2023 Will be at Gospel Tabernacle of Faith Church\, 1613 South Main Street\, Anderson\, SC starting at 830 am. Guest speaker is Apostle William Williford of Summerville\, SC
X-ALT-DESC;FMTTYPE=text/html:Tabernacle of Faith of Anderson\, Inc. will hold their annual Conference on Saturday\, May 20\, 2023 at Zion Tabernacle of Faith Church\, 329 Jordon Street\, Greenwood\, S.C. 29646 starting at 10:00 am. Guest speakers are Minister Rod Williford of Anderson\, Apostle Taylor Johnson of Greenwood\, and Apostle Alan Koerber of Anderson\, SC. On Sunday\, May 21\, 2023 Will be at Gospel Tabernacle of Faith Church\, 1613 South Main Street\, Anderson\, SC starting at 830 am. Guest speaker is Apostle William Williford of Summerville\, SC
LOCATION:Zion Tabernacle of Faith Church\, 329 Jordon Street\, Greenwood\, SC 29646 on Saturday Gospel Tabernacle of Faith Church\, 1613 S. Main Street\, Anderson\, SC 29624
UID:e.3091.11612
SEQUENCE:3
DTSTAMP:20260422T102017Z
URL:https://www.andersonscchamber.com/events/details/church-announcement-11612
END:VEVENT

END:VCALENDAR
