BEGIN:VCALENDAR
VERSION:2.0
PRODID:-//ChamberMaster//Event Calendar 2.0//EN
METHOD:PUBLISH
X-PUBLISHED-TTL:P3D
REFRESH-INTERVAL:P3D
CALSCALE:GREGORIAN
BEGIN:VEVENT
DTSTART:20170209T220000Z
DTEND:20170210T020000Z
X-MICROSOFT-CDO-ALLDAYEVENT:FALSE
SUMMARY:Dine for Homeless Families
DESCRIPTION:*Dine for Homeless Families*Thursday\, February 9\, 2017\; 5:00 pm until 9:00 pm*Chipotle Mexican Grill\, 3556 Clemson Boulevard\, Anderson\, SC*Buy dinner\, Take a snack. Dine in or take out*Just mention Family Promise when you order & 50% of your purchase will help homeless families with children*For additional information call Family Promise at (864) 760-0908
X-ALT-DESC;FMTTYPE=text/html:<p>*Dine for Homeless Families</p><p>*Thursday\, February 9\, 2017\; 5:00 pm until 9:00 pm</p><p>*Chipotle Mexican Grill\, 3556 Clemson Boulevard\, Anderson\, SC</p><p>*Buy dinner\, Take a snack. Dine in or take out</p><p>*Just mention Family Promise when you order &amp\; 50% of your purchase will help homeless families with children</p><p>*For additional information call Family Promise at (864) 760-0908</p><p><span style="color:#4b4f56\;text-transform:none\;text-indent:0px\;letter-spacing:normal\;font-family:Helvetica\, Arial\, sans-serif\;font-size:14px\;font-style:normal\;font-weight:normal\;word-spacing:0px\;float:none\;display:inline !important\;white-space:normal\;orphans:2\;widows:2\;background-color:#ffffff\;font-variant-ligatures:normal\;font-variant-caps:normal\;-webkit-text-stroke-width:0px\;"></span></p>
LOCATION:
UID:e.3091.3682
SEQUENCE:3
DTSTAMP:20260421T103718Z
URL:https://www.andersonscchamber.com/events/details/dine-for-homeless-families-3682
END:VEVENT

END:VCALENDAR
