BEGIN:VCALENDAR
VERSION:2.0
PRODID:-//ChamberMaster//Event Calendar 2.0//EN
METHOD:PUBLISH
X-PUBLISHED-TTL:P3D
REFRESH-INTERVAL:P3D
CALSCALE:GREGORIAN
BEGIN:VEVENT
DTSTART:20191126T174500Z
DTEND:20191126T184500Z
X-MICROSOFT-CDO-ALLDAYEVENT:FALSE
SUMMARY:Meet and Greet with U.S. Senator Tim Scott
DESCRIPTION:Join us for a Meet and Greet with U.S. Senator Tim Scott on Tuesday\, November 26\, 2019\, from 12:45 - 1:45 PM at the Tri-County Technical College Anderson Campus.\n\n\n\nCoffee & Desserts provided by Tri-County Technical College.
X-ALT-DESC;FMTTYPE=text/html:Join us for a Meet and Greet with U.S. Senator Tim Scott on Tuesday\, November 26\, 2019\, from 12:45 - 1:45 PM at the Tri-County Technical College Anderson Campus.<br />\n<br />\nCoffee &amp\; Desserts provided by Tri-County Technical College.
LOCATION:Tri-County Technical College Anderson Campus The Community Room 511 Michelin Boulevard Anderson\, SC 29625
UID:e.3091.10968
SEQUENCE:3
DTSTAMP:20260422T181251Z
URL:https://www.andersonscchamber.com/events/details/meet-and-greet-with-u-s-senator-tim-scott-10968
END:VEVENT

END:VCALENDAR
