BEGIN:VCALENDAR
VERSION:2.0
PRODID:-//ChamberMaster//Event Calendar 2.0//EN
METHOD:PUBLISH
X-PUBLISHED-TTL:P3D
REFRESH-INTERVAL:P3D
CALSCALE:GREGORIAN
BEGIN:VEVENT
DTSTART:20220606T190000Z
DTEND:20220606T200000Z
X-MICROSOFT-CDO-ALLDAYEVENT:FALSE
SUMMARY:Ribbon Cutting Celebration Casey Group Real Estate\, LLC
DESCRIPTION:Please join us for a Ribbon Cutting Celebration honoring Casey Group Real Estate\, LLC.
X-ALT-DESC;FMTTYPE=text/html:Please join us for a Ribbon Cutting Celebration honoring Casey Group Real Estate\, LLC. &nbsp\; &nbsp\;&nbsp\;
LOCATION:Casey Group Real Estate\, LLC 517 N. McDuffie St. Anderson\, SC29621
UID:e.3091.11428
SEQUENCE:3
DTSTAMP:20260419T123100Z
URL:https://www.andersonscchamber.com/events/details/ribbon-cutting-celebration-casey-group-real-estate-llc-11428
END:VEVENT

END:VCALENDAR
