BEGIN:VCALENDAR
VERSION:2.0
PRODID:-//ChamberMaster//Event Calendar 2.0//EN
METHOD:PUBLISH
X-PUBLISHED-TTL:P3D
REFRESH-INTERVAL:P3D
CALSCALE:GREGORIAN
BEGIN:VEVENT
DTSTART:20230306T223000Z
DTEND:20230306T233000Z
X-MICROSOFT-CDO-ALLDAYEVENT:FALSE
SUMMARY:Ribbon Cutting Celebration honoring Exit 4 Escape Rooms
DESCRIPTION:Please join us for a Ribbon Cutting Celebration honoring Exit 4 Escape Rooms
X-ALT-DESC;FMTTYPE=text/html:Please join us for a Ribbon Cutting Celebration honoring Exit 4 Escape Rooms
LOCATION:Exit 4 Escape Rooms 502 North Main Street Suites G&H Anderson\, SC 29621
UID:e.3091.11589
SEQUENCE:3
DTSTAMP:20260420T113342Z
URL:https://www.andersonscchamber.com/events/details/ribbon-cutting-celebration-honoring-exit-4-escape-rooms-11589
END:VEVENT

END:VCALENDAR
