BEGIN:VCALENDAR
VERSION:2.0
PRODID:-//ChamberMaster//Event Calendar 2.0//EN
METHOD:PUBLISH
X-PUBLISHED-TTL:P3D
REFRESH-INTERVAL:P3D
CALSCALE:GREGORIAN
BEGIN:VEVENT
DTSTART:20250529T113000Z
DTEND:20250529T130000Z
X-MICROSOFT-CDO-ALLDAYEVENT:FALSE
SUMMARY:Toast 'N Topics featuring US Congresswoman Sheri Biggs
DESCRIPTION:Join us from 7:30 AM - 9:00 AM at Anderson University. Make your reservation now!
X-ALT-DESC;FMTTYPE=text/html:<span style="color: rgb(31\, 73\, 125)\;">Join us from 7:30 AM - 9:00 AM at Anderson University</span><span style="color: rgb(31\, 73\, 125)\;">. Make your reservation now!&nbsp\;&nbsp\;</span>
LOCATION:
UID:e.3091.11890
SEQUENCE:3
DTSTAMP:20260422T090712Z
URL:https://www.andersonscchamber.com/events/details/toast-n-topics-featuring-us-congresswoman-sheri-biggs-11890
END:VEVENT

END:VCALENDAR
